BEGIN:VCALENDAR
VERSION:2.0
PRODID:-//The Belfry House - Lake Geneva, Wisconsin Luxury Hotel - ECPv6.9.0//NONSGML v1.0//EN
CALSCALE:GREGORIAN
METHOD:PUBLISH
X-WR-CALNAME:The Belfry House - Lake Geneva, Wisconsin Luxury Hotel
X-ORIGINAL-URL:https://www.belfryhouse.com
X-WR-CALDESC:Events for The Belfry House - Lake Geneva, Wisconsin Luxury Hotel
REFRESH-INTERVAL;VALUE=DURATION:PT1H
X-Robots-Tag:noindex
X-PUBLISHED-TTL:PT1H
BEGIN:VTIMEZONE
TZID:UTC
BEGIN:STANDARD
TZOFFSETFROM:+0000
TZOFFSETTO:+0000
TZNAME:UTC
DTSTART:20250101T000000
END:STANDARD
END:VTIMEZONE
BEGIN:VEVENT
DTSTART;TZID=UTC:20250128T000000
DTEND;TZID=UTC:20250201T235959
DTSTAMP:20260421T130444
CREATED:20251022T133002Z
LAST-MODIFIED:20251022T133010Z
UID:10000050-1738022400-1738454399@www.belfryhouse.com
SUMMARY:Winterfest & America's Snow Sculpting Invitational
DESCRIPTION:Along with the snow sculpting competition\, you can also enjoy an array of more wintery fun throughout the Lake Geneva region during Winterfest. Don’t miss the Downtown Ice Sculpture Walk\, bonfires on the beach\, live entertainment and much more for the whole family.
URL:https://www.belfryhouse.com/things-to-do/winterfest-americas-snow-sculpting-invitational/
LOCATION:Downtown Lake Geneva
END:VEVENT
END:VCALENDAR